BEGIN:VCALENDAR
VERSION:2.0
PRODID:-//TYPO3/NONSGML Calendarize//EN
BEGIN:VEVENT
UID:calendarize-check-den-impfpass
DTSTAMP:20260409T120001Z
DTSTART:20260427T093000Z
DTEND:20260427T113000Z
SUMMARY:Check den Impfpass!
DESCRIPTION:Lass deinen Impfpass checken! Die EMSA Lübeck mit der Allgeme
 inmedizin der UzL bietet für alle Interessierten am 27. & 28. April einen
  kurzen Check eurer Impfpässe an und steht bei Fragen oder Unsicherheiten
  zum Thema Impfungen bereit. Also bringt eure Pässe mit und schaut ob noc
 h alles Up-To-Date ist.
X-ALT-DESC;FMTTYPE=text/html:Lass deinen Impfpass checken! Die EMSA Lübec
 k mit der Allgemeinmedizin der UzL bietet für alle Interessierten am 27. 
 & 28. April einen kurzen Check eurer Impfpässe an und steht bei Fragen od
 er Unsicherheiten zum Thema Impfungen bereit. Also bringt eure Pässe mit 
 und schaut ob noch alles Up-To-Date ist.
LOCATION:Mensa
END:VEVENT
END:VCALENDAR
