BEGIN:VCALENDAR
VERSION:2.0
PRODID:-//TYPO3/NONSGML Calendarize//EN
BEGIN:VEVENT
UID:calendarize-opk-lesewoche
DTSTAMP:20251209T200001Z
DTSTART:20260424T160000Z
DTEND:20260424T200000Z
SUMMARY:OPK: Lesewoche
DESCRIPTION:Operation Popcorn Kino: der Filmabend im Vorlesungssaal!\nFilm
 beginn 18:30\nWeitere Infos folgen\n\n----\nOperation Popcorn Kino: the mo
 vie night in the lecture hall!\nMovie start 18:30\nMore infos pending
X-ALT-DESC;FMTTYPE=text/html:Operation Popcorn Kino: der Filmabend im Vorl
 esungssaal!\nFilmbeginn 18:30\nWeitere Infos folgen\n\n----\nOperation Pop
 corn Kino: the movie night in the lecture hall!\nMovie start 18:30\nMore i
 nfos pending
LOCATION:
END:VEVENT
END:VCALENDAR
