BEGIN:VCALENDAR
VERSION:2.0
PRODID:-//TYPO3/NONSGML Calendarize//EN
BEGIN:VEVENT
UID:calendarize-sitzung-kulturreferat
DTSTAMP:20260409T180001Z
DTSTART:20260423T160000Z
DTEND:20260423T180000Z
SUMMARY:Sitzung Kulturreferat
DESCRIPTION:
X-ALT-DESC;FMTTYPE=text/html:
LOCATION:AStA
END:VEVENT
END:VCALENDAR
