BEGIN:VCALENDAR
VERSION:2.0
PRODID:-//TYPO3/NONSGML Calendarize//EN
BEGIN:VEVENT
UID:calendarize-stitch-sketch-club
DTSTAMP:20260420T160001Z
DTSTART:20260422T143000Z
DTEND:20260422T180000Z
SUMMARY:Stitch & Sketch Club
DESCRIPTION:
X-ALT-DESC;FMTTYPE=text/html:
LOCATION:C3
END:VEVENT
END:VCALENDAR
